BEGIN:VCALENDAR
VERSION:2.0
PRODID:-//Grace Baptist Church - ECPv6.15.20//NONSGML v1.0//EN
CALSCALE:GREGORIAN
METHOD:PUBLISH
X-WR-CALNAME:Grace Baptist Church
X-ORIGINAL-URL:https://gbcministries.com
X-WR-CALDESC:Events for Grace Baptist Church
REFRESH-INTERVAL;VALUE=DURATION:PT1H
X-Robots-Tag:noindex
X-PUBLISHED-TTL:PT1H
BEGIN:VTIMEZONE
TZID:America/New_York
BEGIN:DAYLIGHT
TZOFFSETFROM:-0500
TZOFFSETTO:-0400
TZNAME:EDT
DTSTART:20230312T070000
END:DAYLIGHT
BEGIN:STANDARD
TZOFFSETFROM:-0400
TZOFFSETTO:-0500
TZNAME:EST
DTSTART:20231105T060000
END:STANDARD
BEGIN:DAYLIGHT
TZOFFSETFROM:-0500
TZOFFSETTO:-0400
TZNAME:EDT
DTSTART:20240310T070000
END:DAYLIGHT
BEGIN:STANDARD
TZOFFSETFROM:-0400
TZOFFSETTO:-0500
TZNAME:EST
DTSTART:20241103T060000
END:STANDARD
BEGIN:DAYLIGHT
TZOFFSETFROM:-0500
TZOFFSETTO:-0400
TZNAME:EDT
DTSTART:20250309T070000
END:DAYLIGHT
BEGIN:STANDARD
TZOFFSETFROM:-0400
TZOFFSETTO:-0500
TZNAME:EST
DTSTART:20251102T060000
END:STANDARD
END:VTIMEZONE
BEGIN:VEVENT
DTSTART;TZID=America/New_York:20241109T073000
DTEND;TZID=America/New_York:20241109T083000
DTSTAMP:20260422T180253
CREATED:20240314T190730Z
LAST-MODIFIED:20260311T171839Z
UID:10000407-1731137400-1731141000@gbcministries.com
SUMMARY:Men's Prayer Meeting
DESCRIPTION:
URL:https://gbcministries.com/event/mens-prayer-meeting-4-2/2024-11-09/
CATEGORIES:Men
END:VEVENT
BEGIN:VEVENT
DTSTART;TZID=America/New_York:20241106T184500
DTEND;TZID=America/New_York:20241106T201000
DTSTAMP:20260422T180253
CREATED:20240809T155310Z
LAST-MODIFIED:20240814T165239Z
UID:10000526-1730918700-1730923800@gbcministries.com
SUMMARY:AWANA
DESCRIPTION:
URL:https://gbcministries.com/event/awana-2/2024-11-06/
CATEGORIES:AWANA,AWANA Workers
END:VEVENT
BEGIN:VEVENT
DTSTART;TZID=America/New_York:20241102T073000
DTEND;TZID=America/New_York:20241102T083000
DTSTAMP:20260422T180253
CREATED:20240314T190730Z
LAST-MODIFIED:20260311T171839Z
UID:10000406-1730532600-1730536200@gbcministries.com
SUMMARY:Men's Prayer Meeting
DESCRIPTION:
URL:https://gbcministries.com/event/mens-prayer-meeting-4-2/2024-11-02/
CATEGORIES:Men
END:VEVENT
BEGIN:VEVENT
DTSTART;TZID=America/New_York:20241030T184500
DTEND;TZID=America/New_York:20241030T201000
DTSTAMP:20260422T180253
CREATED:20240809T155310Z
LAST-MODIFIED:20240814T165239Z
UID:10000525-1730313900-1730319000@gbcministries.com
SUMMARY:AWANA
DESCRIPTION:
URL:https://gbcministries.com/event/awana-2/2024-10-30/
CATEGORIES:AWANA,AWANA Workers
END:VEVENT
BEGIN:VEVENT
DTSTART;TZID=America/New_York:20241026T073000
DTEND;TZID=America/New_York:20241026T083000
DTSTAMP:20260422T180253
CREATED:20240314T190730Z
LAST-MODIFIED:20260311T171839Z
UID:10000405-1729927800-1729931400@gbcministries.com
SUMMARY:Men's Prayer Meeting
DESCRIPTION:
URL:https://gbcministries.com/event/mens-prayer-meeting-4-2/2024-10-26/
CATEGORIES:Men
END:VEVENT
BEGIN:VEVENT
DTSTART;TZID=America/New_York:20241023T184500
DTEND;TZID=America/New_York:20241023T201000
DTSTAMP:20260422T180253
CREATED:20240809T155310Z
LAST-MODIFIED:20240814T165239Z
UID:10000524-1729709100-1729714200@gbcministries.com
SUMMARY:AWANA
DESCRIPTION:
URL:https://gbcministries.com/event/awana-2/2024-10-23/
CATEGORIES:AWANA,AWANA Workers
END:VEVENT
BEGIN:VEVENT
DTSTART;TZID=America/New_York:20241019T073000
DTEND;TZID=America/New_York:20241019T083000
DTSTAMP:20260422T180253
CREATED:20240314T190730Z
LAST-MODIFIED:20260311T171839Z
UID:10000404-1729323000-1729326600@gbcministries.com
SUMMARY:Men's Prayer Meeting
DESCRIPTION:
URL:https://gbcministries.com/event/mens-prayer-meeting-4-2/2024-10-19/
CATEGORIES:Men
END:VEVENT
BEGIN:VEVENT
DTSTART;TZID=America/New_York:20241017T190000
DTEND;TZID=America/New_York:20241017T210000
DTSTAMP:20260422T180253
CREATED:20240719T162638Z
LAST-MODIFIED:20251218T161229Z
UID:10000567-1729191600-1729198800@gbcministries.com
SUMMARY:Deacon Meeting
DESCRIPTION:
URL:https://gbcministries.com/event/deacon-meeting-3/2024-10-17/
CATEGORIES:Deacons
END:VEVENT
BEGIN:VEVENT
DTSTART;TZID=America/New_York:20241016T184500
DTEND;TZID=America/New_York:20241016T201000
DTSTAMP:20260422T180253
CREATED:20240809T155310Z
LAST-MODIFIED:20240814T165239Z
UID:10000523-1729104300-1729109400@gbcministries.com
SUMMARY:AWANA
DESCRIPTION:
URL:https://gbcministries.com/event/awana-2/2024-10-16/
CATEGORIES:AWANA,AWANA Workers
END:VEVENT
BEGIN:VEVENT
DTSTART;TZID=America/New_York:20241012T073000
DTEND;TZID=America/New_York:20241012T083000
DTSTAMP:20260422T180253
CREATED:20240314T190730Z
LAST-MODIFIED:20260311T171839Z
UID:10000403-1728718200-1728721800@gbcministries.com
SUMMARY:Men's Prayer Meeting
DESCRIPTION:
URL:https://gbcministries.com/event/mens-prayer-meeting-4-2/2024-10-12/
CATEGORIES:Men
END:VEVENT
BEGIN:VEVENT
DTSTART;TZID=America/New_York:20241009T184500
DTEND;TZID=America/New_York:20241009T201000
DTSTAMP:20260422T180253
CREATED:20240809T155310Z
LAST-MODIFIED:20240814T165239Z
UID:10000522-1728499500-1728504600@gbcministries.com
SUMMARY:AWANA
DESCRIPTION:
URL:https://gbcministries.com/event/awana-2/2024-10-09/
CATEGORIES:AWANA,AWANA Workers
END:VEVENT
BEGIN:VEVENT
DTSTART;TZID=America/New_York:20241005T073000
DTEND;TZID=America/New_York:20241005T083000
DTSTAMP:20260422T180253
CREATED:20240314T190730Z
LAST-MODIFIED:20260311T171839Z
UID:10000402-1728113400-1728117000@gbcministries.com
SUMMARY:Men's Prayer Meeting
DESCRIPTION:
URL:https://gbcministries.com/event/mens-prayer-meeting-4-2/2024-10-05/
CATEGORIES:Men
END:VEVENT
BEGIN:VEVENT
DTSTART;TZID=America/New_York:20241002T184500
DTEND;TZID=America/New_York:20241002T201000
DTSTAMP:20260422T180253
CREATED:20240809T155310Z
LAST-MODIFIED:20240814T165239Z
UID:10000521-1727894700-1727899800@gbcministries.com
SUMMARY:AWANA
DESCRIPTION:
URL:https://gbcministries.com/event/awana-2/2024-10-02/
CATEGORIES:AWANA,AWANA Workers
END:VEVENT
BEGIN:VEVENT
DTSTART;TZID=America/New_York:20240928T073000
DTEND;TZID=America/New_York:20240928T083000
DTSTAMP:20260422T180253
CREATED:20240314T190730Z
LAST-MODIFIED:20260311T171839Z
UID:10000401-1727508600-1727512200@gbcministries.com
SUMMARY:Men's Prayer Meeting
DESCRIPTION:
URL:https://gbcministries.com/event/mens-prayer-meeting-4-2/2024-09-28/
CATEGORIES:Men
END:VEVENT
BEGIN:VEVENT
DTSTART;TZID=America/New_York:20240925T184500
DTEND;TZID=America/New_York:20240925T201000
DTSTAMP:20260422T180253
CREATED:20240809T155310Z
LAST-MODIFIED:20240814T165239Z
UID:10000520-1727289900-1727295000@gbcministries.com
SUMMARY:AWANA
DESCRIPTION:
URL:https://gbcministries.com/event/awana-2/2024-09-25/
CATEGORIES:AWANA,AWANA Workers
END:VEVENT
BEGIN:VEVENT
DTSTART;TZID=America/New_York:20240921T073000
DTEND;TZID=America/New_York:20240921T083000
DTSTAMP:20260422T180253
CREATED:20240314T190730Z
LAST-MODIFIED:20260311T171839Z
UID:10000400-1726903800-1726907400@gbcministries.com
SUMMARY:Men's Prayer Meeting
DESCRIPTION:
URL:https://gbcministries.com/event/mens-prayer-meeting-4-2/2024-09-21/
CATEGORIES:Men
END:VEVENT
BEGIN:VEVENT
DTSTART;TZID=America/New_York:20240919T190000
DTEND;TZID=America/New_York:20240919T210000
DTSTAMP:20260422T180253
CREATED:20240719T162638Z
LAST-MODIFIED:20251218T161229Z
UID:10000566-1726772400-1726779600@gbcministries.com
SUMMARY:Deacon Meeting
DESCRIPTION:
URL:https://gbcministries.com/event/deacon-meeting-3/2024-09-19/
CATEGORIES:Deacons
END:VEVENT
BEGIN:VEVENT
DTSTART;TZID=America/New_York:20240918T184500
DTEND;TZID=America/New_York:20240918T201000
DTSTAMP:20260422T180253
CREATED:20240809T155310Z
LAST-MODIFIED:20240814T165239Z
UID:10000519-1726685100-1726690200@gbcministries.com
SUMMARY:AWANA
DESCRIPTION:
URL:https://gbcministries.com/event/awana-2/2024-09-18/
CATEGORIES:AWANA,AWANA Workers
END:VEVENT
BEGIN:VEVENT
DTSTART;TZID=America/New_York:20240914T073000
DTEND;TZID=America/New_York:20240914T083000
DTSTAMP:20260422T180253
CREATED:20240314T190730Z
LAST-MODIFIED:20260311T171839Z
UID:10000399-1726299000-1726302600@gbcministries.com
SUMMARY:Men's Prayer Meeting
DESCRIPTION:
URL:https://gbcministries.com/event/mens-prayer-meeting-4-2/2024-09-14/
CATEGORIES:Men
END:VEVENT
BEGIN:VEVENT
DTSTART;TZID=America/New_York:20240911T184500
DTEND;TZID=America/New_York:20240911T201000
DTSTAMP:20260422T180253
CREATED:20240809T155310Z
LAST-MODIFIED:20240814T165239Z
UID:10000518-1726080300-1726085400@gbcministries.com
SUMMARY:AWANA
DESCRIPTION:
URL:https://gbcministries.com/event/awana-2/2024-09-11/
CATEGORIES:AWANA,AWANA Workers
END:VEVENT
BEGIN:VEVENT
DTSTART;TZID=America/New_York:20240907T073000
DTEND;TZID=America/New_York:20240907T083000
DTSTAMP:20260422T180253
CREATED:20240314T190730Z
LAST-MODIFIED:20260311T171839Z
UID:10000398-1725694200-1725697800@gbcministries.com
SUMMARY:Men's Prayer Meeting
DESCRIPTION:
URL:https://gbcministries.com/event/mens-prayer-meeting-4-2/2024-09-07/
CATEGORIES:Men
END:VEVENT
BEGIN:VEVENT
DTSTART;TZID=America/New_York:20240831T073000
DTEND;TZID=America/New_York:20240831T083000
DTSTAMP:20260422T180253
CREATED:20240314T190730Z
LAST-MODIFIED:20260311T171839Z
UID:10000397-1725089400-1725093000@gbcministries.com
SUMMARY:Men's Prayer Meeting
DESCRIPTION:
URL:https://gbcministries.com/event/mens-prayer-meeting-4-2/2024-08-31/
CATEGORIES:Men
END:VEVENT
BEGIN:VEVENT
DTSTART;TZID=America/New_York:20240824T073000
DTEND;TZID=America/New_York:20240824T083000
DTSTAMP:20260422T180253
CREATED:20240314T190730Z
LAST-MODIFIED:20260311T171839Z
UID:10000396-1724484600-1724488200@gbcministries.com
SUMMARY:Men's Prayer Meeting
DESCRIPTION:
URL:https://gbcministries.com/event/mens-prayer-meeting-4-2/2024-08-24/
CATEGORIES:Men
END:VEVENT
BEGIN:VEVENT
DTSTART;TZID=America/New_York:20240817T073000
DTEND;TZID=America/New_York:20240817T083000
DTSTAMP:20260422T180253
CREATED:20240314T190730Z
LAST-MODIFIED:20260311T171839Z
UID:10000395-1723879800-1723883400@gbcministries.com
SUMMARY:Men's Prayer Meeting
DESCRIPTION:
URL:https://gbcministries.com/event/mens-prayer-meeting-4-2/2024-08-17/
CATEGORIES:Men
END:VEVENT
BEGIN:VEVENT
DTSTART;TZID=America/New_York:20240815T190000
DTEND;TZID=America/New_York:20240815T210000
DTSTAMP:20260422T180253
CREATED:20240719T162638Z
LAST-MODIFIED:20251218T161229Z
UID:10000482-1723748400-1723755600@gbcministries.com
SUMMARY:Deacon Meeting
DESCRIPTION:
URL:https://gbcministries.com/event/deacon-meeting-3/2024-08-15/
CATEGORIES:Deacons
END:VEVENT
BEGIN:VEVENT
DTSTART;TZID=America/New_York:20240810T073000
DTEND;TZID=America/New_York:20240810T083000
DTSTAMP:20260422T180253
CREATED:20240314T190730Z
LAST-MODIFIED:20260311T171839Z
UID:10000394-1723275000-1723278600@gbcministries.com
SUMMARY:Men's Prayer Meeting
DESCRIPTION:
URL:https://gbcministries.com/event/mens-prayer-meeting-4-2/2024-08-10/
CATEGORIES:Men
END:VEVENT
BEGIN:VEVENT
DTSTART;TZID=America/New_York:20240803T073000
DTEND;TZID=America/New_York:20240803T083000
DTSTAMP:20260422T180253
CREATED:20240314T190730Z
LAST-MODIFIED:20260311T171839Z
UID:10000393-1722670200-1722673800@gbcministries.com
SUMMARY:Men's Prayer Meeting
DESCRIPTION:
URL:https://gbcministries.com/event/mens-prayer-meeting-4-2/2024-08-03/
CATEGORIES:Men
END:VEVENT
BEGIN:VEVENT
DTSTART;TZID=America/New_York:20240727T073000
DTEND;TZID=America/New_York:20240727T083000
DTSTAMP:20260422T180253
CREATED:20240314T190730Z
LAST-MODIFIED:20260311T171839Z
UID:10000392-1722065400-1722069000@gbcministries.com
SUMMARY:Men's Prayer Meeting
DESCRIPTION:
URL:https://gbcministries.com/event/mens-prayer-meeting-4-2/2024-07-27/
CATEGORIES:Men
END:VEVENT
BEGIN:VEVENT
DTSTART;TZID=America/New_York:20240720T073000
DTEND;TZID=America/New_York:20240720T083000
DTSTAMP:20260422T180253
CREATED:20240314T190730Z
LAST-MODIFIED:20260311T171839Z
UID:10000391-1721460600-1721464200@gbcministries.com
SUMMARY:Men's Prayer Meeting
DESCRIPTION:
URL:https://gbcministries.com/event/mens-prayer-meeting-4-2/2024-07-20/
CATEGORIES:Men
END:VEVENT
BEGIN:VEVENT
DTSTART;TZID=America/New_York:20240713T073000
DTEND;TZID=America/New_York:20240713T083000
DTSTAMP:20260422T180253
CREATED:20240314T190730Z
LAST-MODIFIED:20260311T171839Z
UID:10000390-1720855800-1720859400@gbcministries.com
SUMMARY:Men's Prayer Meeting
DESCRIPTION:
URL:https://gbcministries.com/event/mens-prayer-meeting-4-2/2024-07-13/
CATEGORIES:Men
END:VEVENT
END:VCALENDAR